BEGIN:VCALENDAR
VERSION:2.0
PRODID:-//Plone.org//NONSGML plone.app.event//EN
X-WR-TIMEZONE:Europe/Madrid
BEGIN:VEVENT
SUMMARY:Taller de relaxació on line
DTSTART;TZID=Europe/Madrid;VALUE=DATE-TIME:20200715T190000
DTEND;TZID=Europe/Madrid;VALUE=DATE-TIME:20200715T200000
DTSTAMP;VALUE=DATE-TIME:20260424T165732Z
UID:bdd8f16b806c51c2d0c56f71056feaf4
CREATED;VALUE=DATE-TIME:20200715T000000Z
CATEGORIES:Cursos,Agenda cultural
ORGANIZER:Biblioteca Municipal La Muntala
COMMENT:Preu: Activitat gratuïta
DESCRIPTION:Activitat virtual
URL:https://www.svmontalt.cat/document.php?id=17006
END:VEVENT
END:VCALENDAR