BEGIN:VCALENDAR
VERSION:2.0
PRODID:-//Plone.org//NONSGML plone.app.event//EN
X-WR-TIMEZONE:Europe/Madrid
BEGIN:VEVENT
SUMMARY:Round table en francès on line
DTSTART;TZID=Europe/Madrid;VALUE=DATE-TIME:20200717T190000
DTEND;TZID=Europe/Madrid;VALUE=DATE-TIME:20200717T200000
DTSTAMP;VALUE=DATE-TIME:20260424T185311Z
UID:2aca205cfe8d560f3c9111157156cea9
CREATED;VALUE=DATE-TIME:20200717T000000Z
CATEGORIES:Cursos,Agenda cultural
ORGANIZER:Biblioteca Municipal La Muntala
COMMENT:Preu: Activitat gratuïta
DESCRIPTION:Activitat virtual
URL:https://www.svmontalt.cat/document.php?id=17007
END:VEVENT
END:VCALENDAR