BEGIN:VCALENDAR
VERSION:2.0
PRODID:-//Plone.org//NONSGML plone.app.event//EN
X-WR-TIMEZONE:Europe/Madrid
BEGIN:VEVENT
SUMMARY:L'hora del conte en anglès on line
DTSTART;TZID=Europe/Madrid;VALUE=DATE-TIME:20200722T173000
DTEND;TZID=Europe/Madrid;VALUE=DATE-TIME:20200722T183000
DTSTAMP;VALUE=DATE-TIME:20260424T170832Z
UID:76e3f5a142a55e8d09e522442aa40f6b
CREATED;VALUE=DATE-TIME:20200722T000000Z
CATEGORIES:Literatura,Agenda cultural,Infantils
ORGANIZER:Biblioteca Municipal La Muntala
COMMENT:Preu: Gratuïta
DESCRIPTION:Activitat virtual
URL:https://www.svmontalt.cat/document.php?id=17008
END:VEVENT
END:VCALENDAR