BEGIN:VCALENDAR
VERSION:2.0
PRODID:-//Plone.org//NONSGML plone.app.event//EN
X-WR-TIMEZONE:Europe/Madrid
BEGIN:VEVENT
SUMMARY:Curs on line de seguretat alimentària i Covid-19
DTSTART;TZID=Europe/Madrid;VALUE=DATE-TIME:20200714T100000
DTEND;TZID=Europe/Madrid;VALUE=DATE-TIME:20200714T110000
DTSTAMP;VALUE=DATE-TIME:20260424T183358Z
UID:2e709511a887622eb4fe2b2ff32ed880
CREATED;VALUE=DATE-TIME:20200714T000000Z
CATEGORIES:Cursos,Agenda cultural
LOCATION:On line
ORGANIZER:Regidoria de Sanitat, Salut Pública i Consum amb el suport de la Diputació de Barcelona
COMMENT:Preu: Gratuït
Durada: 90 minuts
URL:https://www.svmontalt.cat/document.php?id=17045
END:VEVENT
END:VCALENDAR