BEGIN:VCALENDAR
VERSION:2.0
PRODID:-//Plone.org//NONSGML plone.app.event//EN
X-WR-TIMEZONE:Europe/Madrid
BEGIN:VEVENT
SUMMARY:Seminari gratuït: Entendre el teu PC
DTSTART;TZID=Europe/Madrid;VALUE=DATE-TIME:20071214T170000
DTEND;TZID=Europe/Madrid;VALUE=DATE-TIME:20071214T180000
DTSTAMP;VALUE=DATE-TIME:20260426T003430Z
UID:139031879193b67abb2abbd41d7e19a0
CREATED;VALUE=DATE-TIME:20071214T000000Z
CATEGORIES:Cursos,Agenda cultural
LOCATION:Centre Cívic El Gorg
ORGANIZER:Regidoria de Noves Tecnologies
COMMENT:Preu: Gratuït
Durada: De 17:00 a 21.00h
DESCRIPTION:Cal confirmació d'assistència prèvia
URL:https://www.svmontalt.cat/document.php?id=1705
END:VEVENT
END:VCALENDAR