BEGIN:VCALENDAR
VERSION:2.0
PRODID:-//Plone.org//NONSGML plone.app.event//EN
X-WR-TIMEZONE:Europe/Madrid
BEGIN:VEVENT
SUMMARY:Fil directe amb l'alcalde
DTSTART;TZID=Europe/Madrid;VALUE=DATE-TIME:20200917T120000
DTEND;TZID=Europe/Madrid;VALUE=DATE-TIME:20200917T130000
DTSTAMP;VALUE=DATE-TIME:20260423T114723Z
UID:6fdba8b97a41d3a41b8a859449aad02a
CREATED;VALUE=DATE-TIME:20200917T000000Z
CATEGORIES:Agenda de l'Alcalde
LOCATION:Estudis de Ràdio Santvi - Riera del Gorg, s/n
ORGANIZER:Ràdio Santvi
DESCRIPTION:Programa radiofònic
URL:https://www.svmontalt.cat/document.php?id=17125
END:VEVENT
END:VCALENDAR