BEGIN:VCALENDAR
VERSION:2.0
PRODID:-//Plone.org//NONSGML plone.app.event//EN
X-WR-TIMEZONE:Europe/Madrid
BEGIN:VEVENT
SUMMARY:Visita de l'Oficina Local d'Habitatge
DTSTART;TZID=Europe/Madrid;VALUE=DATE-TIME:20211214T100000
DTEND;TZID=Europe/Madrid;VALUE=DATE-TIME:20211214T110000
DTSTAMP;VALUE=DATE-TIME:20260420T071302Z
UID:aaa3fedcb9e0cf3b01bdfcbb9fd03e38
CREATED;VALUE=DATE-TIME:20211214T000000Z
LOCATION:Casal de Cultura - Plaça del Poble, 6
ORGANIZER:Regidoria d'Habitatge amb el suport del Consell Comarcal del Maresme
COMMENT:Preu: Gratuït
Durada: De 10 a 14 h
URL:https://www.svmontalt.cat/document.php?id=18372
END:VEVENT
END:VCALENDAR