BEGIN:VCALENDAR
VERSION:2.0
PRODID:-//Plone.org//NONSGML plone.app.event//EN
X-WR-TIMEZONE:Europe/Madrid
BEGIN:VEVENT
SUMMARY:Exposició de fotografies al Casal de la Gent Gran
DTSTART;TZID=Europe/Madrid;VALUE=DATE-TIME:20080331T100000
DTEND;TZID=Europe/Madrid;VALUE=DATE-TIME:20080331T110000
DTSTAMP;VALUE=DATE-TIME:20260425T231917Z
UID:6c8ecfb25c05f0f0f8599f500c5e5304
CREATED;VALUE=DATE-TIME:20080331T000000Z
CATEGORIES:Exposició,Agenda cultural
LOCATION:Casal de la Gent Gran Els Xurravins (Centre Cívic El Gorg)
ORGANIZER:Associació de Gent Gran Els Xurravins
COMMENT:Preu: Gratuït
Durada: Fins al 31 de març
DESCRIPTION:Fins al 31 de març
URL:https://www.svmontalt.cat/document.php?id=1889
END:VEVENT
END:VCALENDAR