BEGIN:VCALENDAR
VERSION:2.0
PRODID:-//Plone.org//NONSGML plone.app.event//EN
X-WR-TIMEZONE:Europe/Madrid
BEGIN:VEVENT
SUMMARY:Consell de Govern
DTSTART;TZID=Europe/Madrid;VALUE=DATE-TIME:20220427T183000
DTEND;TZID=Europe/Madrid;VALUE=DATE-TIME:20220427T193000
DTSTAMP;VALUE=DATE-TIME:20260424T171528Z
UID:cbf46a78947324cb85016f4f39e47a3c
CREATED;VALUE=DATE-TIME:20220427T000000Z
CATEGORIES:Agenda de l'Alcalde
LOCATION:Telemàtica
ORGANIZER:Alcaldia
URL:https://www.svmontalt.cat/document.php?id=18915
END:VEVENT
END:VCALENDAR