BEGIN:VCALENDAR
VERSION:2.0
PRODID:-//Plone.org//NONSGML plone.app.event//EN
X-WR-TIMEZONE:Europe/Madrid
BEGIN:VEVENT
SUMMARY:Ple ordinari
DTSTART;TZID=Europe/Madrid;VALUE=DATE-TIME:20220428T194500
DTEND;TZID=Europe/Madrid;VALUE=DATE-TIME:20220428T204500
DTSTAMP;VALUE=DATE-TIME:20260424T143011Z
UID:a19a619f0d55848d07dd21dbe1ed2301
CREATED;VALUE=DATE-TIME:20220428T000000Z
CATEGORIES:Agenda de l'Alcalde
LOCATION:Telemàtic
ORGANIZER:Alcaldia
URL:https://www.svmontalt.cat/document.php?id=18923
END:VEVENT
END:VCALENDAR