BEGIN:VCALENDAR
VERSION:2.0
PRODID:-//Plone.org//NONSGML plone.app.event//EN
X-WR-TIMEZONE:Europe/Madrid
BEGIN:VEVENT
SUMMARY:Assistència acte gent gran
DTSTART;TZID=Europe/Madrid;VALUE=DATE-TIME:20220424T180000
DTEND;TZID=Europe/Madrid;VALUE=DATE-TIME:20220424T190000
DTSTAMP;VALUE=DATE-TIME:20260424T152900Z
UID:aed11f9b638cd2a4231b6b6ebfbf52e5
CREATED;VALUE=DATE-TIME:20220424T000000Z
CATEGORIES:Agenda de l'Alcalde
LOCATION:Centre Cívic El Gorg - Riera del Gorg, s/n
ORGANIZER:Associació de Gent Gran Els Xurravins
URL:https://www.svmontalt.cat/document.php?id=18925
END:VEVENT
END:VCALENDAR