BEGIN:VCALENDAR
VERSION:2.0
PRODID:-//Plone.org//NONSGML plone.app.event//EN
X-WR-TIMEZONE:Europe/Madrid
BEGIN:VEVENT
SUMMARY:Visita al Complex Central Egara dels Mossos d'Esquadra
DTSTART;TZID=Europe/Madrid;VALUE=DATE-TIME:20220426T100000
DTEND;TZID=Europe/Madrid;VALUE=DATE-TIME:20220426T110000
DTSTAMP;VALUE=DATE-TIME:20260424T163643Z
UID:d06a3670c1c79ac3606ffccbd7c2fca5
CREATED;VALUE=DATE-TIME:20220426T000000Z
CATEGORIES:Agenda de l'Alcalde
LOCATION:Sabadell
ORGANIZER:Mossos d'Esquadra
URL:https://www.svmontalt.cat/document.php?id=18929
END:VEVENT
END:VCALENDAR