BEGIN:VCALENDAR
VERSION:2.0
PRODID:-//Plone.org//NONSGML plone.app.event//EN
X-WR-TIMEZONE:Europe/Madrid
BEGIN:VEVENT
SUMMARY:Visites veïns
DTSTART;TZID=Europe/Madrid;VALUE=DATE-TIME:20220428T120000
DTEND;TZID=Europe/Madrid;VALUE=DATE-TIME:20220428T130000
DTSTAMP;VALUE=DATE-TIME:20260424T163530Z
UID:43439394bb3cef42434b40f440243247
CREATED;VALUE=DATE-TIME:20220428T000000Z
CATEGORIES:Agenda de l'Alcalde
LOCATION:Despatx d'Alcaldia - C/ Sant Antoni, 13
ORGANIZER:Alcaldia
URL:https://www.svmontalt.cat/document.php?id=18948
END:VEVENT
END:VCALENDAR