BEGIN:VCALENDAR
VERSION:2.0
PRODID:-//Plone.org//NONSGML plone.app.event//EN
X-WR-TIMEZONE:Europe/Madrid
BEGIN:VEVENT
SUMMARY:Assistència presentació llibre
DTSTART;TZID=Europe/Madrid;VALUE=DATE-TIME:20220424T110000
DTEND;TZID=Europe/Madrid;VALUE=DATE-TIME:20220424T120000
DTSTAMP;VALUE=DATE-TIME:20260424T143026Z
UID:ea78266eda6112286c2263298fbef802
CREATED;VALUE=DATE-TIME:20220424T000000Z
CATEGORIES:Agenda de l'Alcalde
LOCATION:Sala Cultural de Caldes d'Estrac
ORGANIZER:Ajuntament de Caldes d'Estrac
URL:https://www.svmontalt.cat/document.php?id=18968
END:VEVENT
END:VCALENDAR