BEGIN:VCALENDAR
VERSION:2.0
PRODID:-//Plone.org//NONSGML plone.app.event//EN
X-WR-TIMEZONE:Europe/Madrid
BEGIN:VEVENT
SUMMARY:Club de lectura de Paidonèsia
DTSTART;TZID=Europe/Madrid;VALUE=DATE-TIME:20220531T183000
DTEND;TZID=Europe/Madrid;VALUE=DATE-TIME:20220531T193000
DTSTAMP;VALUE=DATE-TIME:20260420T032826Z
UID:74c2352291a38e1246a71d95303824b5
CREATED;VALUE=DATE-TIME:20220531T000000Z
CATEGORIES:Literatura,Agenda cultural
LOCATION:Centre Cívic El Gorg - Riera del Gorg, s/n
ORGANIZER:Biblioteca Municipal La Muntala
COMMENT:Preu: Gratuït
DESCRIPTION:A càrrec d'Arnau P. Sargatal
URL:https://www.svmontalt.cat/document.php?id=19002
END:VEVENT
END:VCALENDAR