BEGIN:VCALENDAR
VERSION:2.0
PRODID:-//Plone.org//NONSGML plone.app.event//EN
X-WR-TIMEZONE:Europe/Madrid
BEGIN:VEVENT
SUMMARY:Entrevista radiofònica "Ona Maresme"
DTSTART;TZID=Europe/Madrid;VALUE=DATE-TIME:20220503T163000
DTEND;TZID=Europe/Madrid;VALUE=DATE-TIME:20220503T173000
DTSTAMP;VALUE=DATE-TIME:20260424T142945Z
UID:d32c57bf57e0cb7ae967de18ba9a3659
CREATED;VALUE=DATE-TIME:20220503T000000Z
CATEGORIES:Agenda de l'Alcalde
ORGANIZER:Regidoria de Comunicació
URL:https://www.svmontalt.cat/document.php?id=19025
END:VEVENT
END:VCALENDAR