BEGIN:VCALENDAR
VERSION:2.0
PRODID:-//Plone.org//NONSGML plone.app.event//EN
X-WR-TIMEZONE:Europe/Madrid
BEGIN:VEVENT
SUMMARY:Reunió amb l'alcaldessa d'Arenys de Mar, l'alcalde de Caldes d'Estrac i representants veïnals
DTSTART;TZID=Europe/Madrid;VALUE=DATE-TIME:20220504T083000
DTEND;TZID=Europe/Madrid;VALUE=DATE-TIME:20220504T093000
DTSTAMP;VALUE=DATE-TIME:20260424T153432Z
UID:66f5abad2d93c4becb223f2357f77d6f
CREATED;VALUE=DATE-TIME:20220504T000000Z
CATEGORIES:Agenda de l'Alcalde
LOCATION:Ajuntament de Caldes d'Estrac
ORGANIZER:Alcaldia
URL:https://www.svmontalt.cat/document.php?id=19027
END:VEVENT
END:VCALENDAR