BEGIN:VCALENDAR
VERSION:2.0
PRODID:-//Plone.org//NONSGML plone.app.event//EN
X-WR-TIMEZONE:Europe/Madrid
BEGIN:VEVENT
SUMMARY:Consell de Govern
DTSTART;TZID=Europe/Madrid;VALUE=DATE-TIME:20220511T183000
DTEND;TZID=Europe/Madrid;VALUE=DATE-TIME:20220511T193000
DTSTAMP;VALUE=DATE-TIME:20260419T152642Z
UID:d5a7fc99f74ea099906a0a761c572e95
CREATED;VALUE=DATE-TIME:20220511T000000Z
CATEGORIES:Agenda de l'Alcalde
LOCATION:Telemàtica
ORGANIZER:Alcaldia
URL:https://www.svmontalt.cat/document.php?id=19031
END:VEVENT
END:VCALENDAR