BEGIN:VCALENDAR
VERSION:2.0
PRODID:-//Plone.org//NONSGML plone.app.event//EN
X-WR-TIMEZONE:Europe/Madrid
BEGIN:VEVENT
SUMMARY:Boscos endins, de Dagoll Dagom, la proposta teatral de març
DTSTART;TZID=Europe/Madrid;VALUE=DATE-TIME:20080328T190000
DTEND;TZID=Europe/Madrid;VALUE=DATE-TIME:20080328T200000
DTSTAMP;VALUE=DATE-TIME:20260426T062357Z
UID:e92d9bd5882a4ccdbbdb7082daa95d26
CREATED;VALUE=DATE-TIME:20080328T000000Z
CATEGORIES:Teatre,Agenda cultural
LOCATION:Davant del Centre Cívic El Gorg
ORGANIZER:Associació de Gent Gran Els Xurravins en col·laboració amb l'Ajuntament de Sant Andreu de Llavaneres
COMMENT:Preu: Entrada i servei de bus: 40 euros
DESCRIPTION:Reserva d'entrades fins al 13 de març
URL:https://www.svmontalt.cat/document.php?id=1916
END:VEVENT
END:VCALENDAR