BEGIN:VCALENDAR
VERSION:2.0
PRODID:-//Plone.org//NONSGML plone.app.event//EN
X-WR-TIMEZONE:Europe/Madrid
BEGIN:VEVENT
SUMMARY:Oficina Local d'Habitatge
DTSTART;TZID=Europe/Madrid;VALUE=DATE-TIME:20220607T100000
DTEND;TZID=Europe/Madrid;VALUE=DATE-TIME:20220607T110000
DTSTAMP;VALUE=DATE-TIME:20260422T225407Z
UID:e552e1da05671bdf27fc7ec12a8c3e2f
CREATED;VALUE=DATE-TIME:20220607T000000Z
LOCATION:Casal de Cultura - Plaça del Poble, 6
ORGANIZER:Regidoria d'Habitatge amb el suport del Consell Comarcal del Maresme
COMMENT:Preu: Gratuït
Durada: De 10 a 14 h
URL:https://www.svmontalt.cat/document.php?id=19166
END:VEVENT
END:VCALENDAR