BEGIN:VCALENDAR
VERSION:2.0
PRODID:-//Plone.org//NONSGML plone.app.event//EN
X-WR-TIMEZONE:Europe/Madrid
BEGIN:VEVENT
SUMMARY:Tarda de Teatre amb l'obra "Venuts"
DTSTART;TZID=Europe/Madrid;VALUE=DATE-TIME:20080302T180000
DTEND;TZID=Europe/Madrid;VALUE=DATE-TIME:20080302T190000
DTSTAMP;VALUE=DATE-TIME:20260426T043006Z
UID:ced1414d3dd5fd45926f19e43b37ff2f
CREATED;VALUE=DATE-TIME:20080302T000000Z
CATEGORIES:Teatre,Agenda cultural
LOCATION:Centre Cívic El Gorg
ORGANIZER:Agrupació Teatral Emled en col·laboració amb la Regidoria de Cultura
COMMENT:Preu: Entrada general, 6 euros; majors de 65 anys, 3 euros.
URL:https://www.svmontalt.cat/document.php?id=1920
END:VEVENT
END:VCALENDAR