BEGIN:VCALENDAR
VERSION:2.0
PRODID:-//Plone.org//NONSGML plone.app.event//EN
X-WR-TIMEZONE:Europe/Madrid
BEGIN:VEVENT
SUMMARY:Inauguració del Circuit Municipal Pump Trak
DTSTART;TZID=Europe/Madrid;VALUE=DATE-TIME:20220811T190000
DTEND;TZID=Europe/Madrid;VALUE=DATE-TIME:20220811T200000
DTSTAMP;VALUE=DATE-TIME:20260424T033924Z
UID:987e774cb606f6529b95b45e6e819f64
CREATED;VALUE=DATE-TIME:20220811T000000Z
CATEGORIES:Esports
LOCATION:Riera del Gorg - Riera del Gorg, s/n
ORGANIZER:Regidoria d'Esports amb la col·laboració de la Regidoria de Cultura i Festes
COMMENT:Preu: Gratuït
Durada: De 19 a 21 h
URL:https://www.svmontalt.cat/document.php?id=19326
END:VEVENT
END:VCALENDAR