BEGIN:VCALENDAR
VERSION:2.0
PRODID:-//Plone.org//NONSGML plone.app.event//EN
X-WR-TIMEZONE:Europe/Madrid
BEGIN:VEVENT
SUMMARY:Festa al Mar
DTSTART;TZID=Europe/Madrid;VALUE=DATE-TIME:20220815T170000
DTEND;TZID=Europe/Madrid;VALUE=DATE-TIME:20220815T180000
DTSTAMP;VALUE=DATE-TIME:20260424T033655Z
UID:d6fb279f5bfd6829c8bb724d8d366c0b
CREATED;VALUE=DATE-TIME:20220812T000000Z
CATEGORIES:Mostra,Música,Agenda cultural
LOCATION:Platja de Sant Vicenç (zona de la Caleta) - Passeig Marquès de Casa Riera, s/n
ORGANIZER:Regidoria de Cultura i Festes amb la col·laboració de les regidories de Comerç i Turisme
COMMENT:Preu: Gratuït
Durada: Market, de 17 a 23 h; Àrea de restauració, oberta fins a la mitjanit
URL:https://www.svmontalt.cat/document.php?id=19340
END:VEVENT
END:VCALENDAR