BEGIN:VCALENDAR
VERSION:2.0
PRODID:-//Plone.org//NONSGML plone.app.event//EN
X-WR-TIMEZONE:Europe/Madrid
BEGIN:VEVENT
SUMMARY:Balls de Saló al Cívic
DTSTART;TZID=Europe/Madrid;VALUE=DATE-TIME:20080330T180000
DTEND;TZID=Europe/Madrid;VALUE=DATE-TIME:20080330T190000
DTSTAMP;VALUE=DATE-TIME:20260426T054341Z
UID:2faacabfbb1e3b6abc9d7c7ceb87fe8f
CREATED;VALUE=DATE-TIME:20080330T000000Z
CATEGORIES:Dansa,Agenda cultural
LOCATION:Centre Cívic El Gorg
ORGANIZER:Regidoria de Cultura
COMMENT:Preu: Gratuït
URL:https://www.svmontalt.cat/document.php?id=1935
END:VEVENT
END:VCALENDAR