BEGIN:VCALENDAR
VERSION:2.0
PRODID:-//Plone.org//NONSGML plone.app.event//EN
X-WR-TIMEZONE:Europe/Madrid
BEGIN:VEVENT
SUMMARY:Visita de l'Oficina Mòbil d'Informació al Consumidor
DTSTART;TZID=Europe/Madrid;VALUE=DATE-TIME:20220913T103000
DTEND;TZID=Europe/Madrid;VALUE=DATE-TIME:20220913T113000
DTSTAMP;VALUE=DATE-TIME:20260423T055704Z
UID:a34aa86669735398df017f6d02a3ed86
CREATED;VALUE=DATE-TIME:20220913T000000Z
LOCATION:Plaça del Poble - Plaça del Poble, s/n
ORGANIZER:Regidoria de Consum amb el suport de la Diputació de Barcelona
COMMENT:Preu: Gratuït
Durada: De 10.30 a 13.00 h
URL:https://www.svmontalt.cat/document.php?id=19367
END:VEVENT
END:VCALENDAR