BEGIN:VCALENDAR
VERSION:2.0
PRODID:-//Plone.org//NONSGML plone.app.event//EN
X-WR-TIMEZONE:Europe/Madrid
BEGIN:VEVENT
SUMMARY:Vine a conèixer el mercat i elabora una recepta saludable
DTSTART;TZID=Europe/Madrid;VALUE=DATE-TIME:20221015T110000
DTEND;TZID=Europe/Madrid;VALUE=DATE-TIME:20221015T120000
DTSTAMP;VALUE=DATE-TIME:20260423T141608Z
UID:0b8c25e538e8ee84ca0b6a236767895f
CREATED;VALUE=DATE-TIME:20221015T000000Z
CATEGORIES:Cursos,Agenda cultural,Infantils
LOCATION:Avinguda Toni Sors - Avinguda Toni Sors, s/n
ORGANIZER:Regidoria de Comerç
COMMENT:Preu: Gratuït
Durada: D'11.00 a 12.30 h
DESCRIPTION:Destinat a nens i nenes de 4 a 12 anys
URL:https://www.svmontalt.cat/document.php?id=19467
END:VEVENT
END:VCALENDAR