BEGIN:VCALENDAR
VERSION:2.0
PRODID:-//Plone.org//NONSGML plone.app.event//EN
X-WR-TIMEZONE:Europe/Madrid
BEGIN:VEVENT
SUMMARY:Màster Solidària
DTSTART;TZID=Europe/Madrid;VALUE=DATE-TIME:20221015T100000
DTEND;TZID=Europe/Madrid;VALUE=DATE-TIME:20221015T110000
DTSTAMP;VALUE=DATE-TIME:20260423T120000Z
UID:52a720b10beb44cb1921565a593f3b6b
CREATED;VALUE=DATE-TIME:20221015T000000Z
CATEGORIES:Esports
LOCATION:Parc dels Germans Gabrielistes - Camí del Padró
ORGANIZER:Sorli Sport amb la col·laboració de l'Associació contra el càncer Sant Andreu de Llavaneres, l'Ajuntament de Sant Vicenç de Montalt i + KE Bocata
COMMENT:Preu: Donació solidària: 5&euro;
Durada: De 10 a 11.30 h
DESCRIPTION:Zumba/Combat/Ioga
URL:https://www.svmontalt.cat/document.php?id=19482
END:VEVENT
END:VCALENDAR