BEGIN:VCALENDAR
VERSION:2.0
PRODID:-//Plone.org//NONSGML plone.app.event//EN
X-WR-TIMEZONE:Europe/Madrid
BEGIN:VEVENT
SUMMARY:Exposició: &#147;Les 3 viles i la RSC&#148;
DTSTART;TZID=Europe/Madrid;VALUE=DATE-TIME:20080627T100000
DTEND;TZID=Europe/Madrid;VALUE=DATE-TIME:20080627T110000
DTSTAMP;VALUE=DATE-TIME:20260419T192752Z
UID:6e616b57fd1858cc05440cc3ce230486
CREATED;VALUE=DATE-TIME:20080627T000000Z
CATEGORIES:Exposició,Agenda cultural
LOCATION:Centre Cívic El Gorg
ORGANIZER:Ajuntaments de Sant Vicenç de Montalt, Caldes d'Estrac i Sant Andreu de Llavaneres
COMMENT:Preu: Gratuït
Durada: Del 17 al 29 de juny de 2008
DESCRIPTION:Oberta fins al 29 de juny
URL:https://www.svmontalt.cat/document.php?id=1962
END:VEVENT
END:VCALENDAR