BEGIN:VCALENDAR
VERSION:2.0
PRODID:-//Plone.org//NONSGML plone.app.event//EN
X-WR-TIMEZONE:Europe/Madrid
BEGIN:VEVENT
SUMMARY:Table ronde
DTSTART;TZID=Europe/Madrid;VALUE=DATE-TIME:20230210T173000
DTEND;TZID=Europe/Madrid;VALUE=DATE-TIME:20230210T183000
DTSTAMP;VALUE=DATE-TIME:20260419T201612Z
UID:330b4b12a887bbd082d8fb2e539a7f64
CREATED;VALUE=DATE-TIME:20230210T000000Z
CATEGORIES:Cursos,Agenda cultural
LOCATION:Centre Cívic El Gorg - Riera del Gorg, s/n
ORGANIZER:Biblioteca Municipal La Muntala
COMMENT:Preu: Activitat gratuïta
URL:https://www.svmontalt.cat/document.php?id=19902
END:VEVENT
END:VCALENDAR