BEGIN:VCALENDAR
VERSION:2.0
PRODID:-//Plone.org//NONSGML plone.app.event//EN
X-WR-TIMEZONE:Europe/Madrid
BEGIN:VEVENT
SUMMARY:Exposició: Col·lecció de cromos de jugadors de futbol (1923-1924 i 1949-1952)
DTSTART;TZID=Europe/Madrid;VALUE=DATE-TIME:20080531T100000
DTEND;TZID=Europe/Madrid;VALUE=DATE-TIME:20080531T110000
DTSTAMP;VALUE=DATE-TIME:20260426T042533Z
UID:b1d7d191fa416a76e85d0a3722e781e5
CREATED;VALUE=DATE-TIME:20080531T000000Z
CATEGORIES:Exposició,Agenda cultural
LOCATION:Casal de la Gent Gran Els Xurravins (Centre Cívic El Gorg)
ORGANIZER:Associació de Gent Gran Els Xurravins
COMMENT:Preu: Gratuït
Durada: De l'1 al 31 d'abril
DESCRIPTION:Oberta fins al 31 de maig
URL:https://www.svmontalt.cat/document.php?id=1994
END:VEVENT
END:VCALENDAR