BEGIN:VCALENDAR
VERSION:2.0
PRODID:-//Plone.org//NONSGML plone.app.event//EN
X-WR-TIMEZONE:Europe/Madrid
BEGIN:VEVENT
SUMMARY:Xocolatada solidària de l'AFA Sant Jordi
DTSTART;TZID=Europe/Madrid;VALUE=DATE-TIME:20230210T163000
DTEND;TZID=Europe/Madrid;VALUE=DATE-TIME:20230210T173000
DTSTAMP;VALUE=DATE-TIME:20260419T201652Z
UID:04f98d421575174fc57e88ce4f13cf94
CREATED;VALUE=DATE-TIME:20230210T000000Z
LOCATION:Escola Sant Jordi - C/ Escoles, 10
ORGANIZER:AFA Escola Sant Jordi
DESCRIPTION:Muntem un bon cacau!
URL:https://www.svmontalt.cat/document.php?id=19947
END:VEVENT
END:VCALENDAR