BEGIN:VCALENDAR
VERSION:2.0
PRODID:-//Plone.org//NONSGML plone.app.event//EN
X-WR-TIMEZONE:Europe/Madrid
BEGIN:VEVENT
SUMMARY:Table ronde
DTSTART;TZID=Europe/Madrid;VALUE=DATE-TIME:20230310T173000
DTEND;TZID=Europe/Madrid;VALUE=DATE-TIME:20230310T183000
DTSTAMP;VALUE=DATE-TIME:20260423T184916Z
UID:cb3d23fb4b472e844c2ca3812b146220
CREATED;VALUE=DATE-TIME:20230310T000000Z
CATEGORIES:Cursos,Agenda cultural
LOCATION:Centre Cívic El Gorg - Riera del Gorg, s/n
ORGANIZER:Biblioteca Municipal La Muntala
COMMENT:Preu: Activitat gratuïta
URL:https://www.svmontalt.cat/document.php?id=20020
END:VEVENT
END:VCALENDAR