BEGIN:VCALENDAR
VERSION:2.0
PRODID:-//Plone.org//NONSGML plone.app.event//EN
X-WR-TIMEZONE:Europe/Madrid
BEGIN:VEVENT
SUMMARY:Xerrada i exposició 'Com era abans?'
DTSTART;TZID=Europe/Madrid;VALUE=DATE-TIME:20230310T180000
DTEND;TZID=Europe/Madrid;VALUE=DATE-TIME:20230310T190000
DTSTAMP;VALUE=DATE-TIME:20260423T191223Z
UID:04018b78a1e46fc44c61f2cb8ef9ecd3
CREATED;VALUE=DATE-TIME:20230310T000000Z
CATEGORIES:Exposició,Conferència,Agenda cultural
LOCATION:Casal de la Gent Gran Els Xurravins - Riera del Gorg, s/n
ORGANIZER:Associació de Gent Gran Els Xurravins
COMMENT:Preu: Gratuït
Durada: L'exposició es podrà visitar fins el 31 de març
DESCRIPTION:A càrrec de Glòria Rosell
URL:https://www.svmontalt.cat/document.php?id=20021
END:VEVENT
END:VCALENDAR