BEGIN:VCALENDAR
VERSION:2.0
PRODID:-//Plone.org//NONSGML plone.app.event//EN
X-WR-TIMEZONE:Europe/Madrid
BEGIN:VEVENT
SUMMARY:Club de lectura
DTSTART;TZID=Europe/Madrid;VALUE=DATE-TIME:20230310T190000
DTEND;TZID=Europe/Madrid;VALUE=DATE-TIME:20230310T200000
DTSTAMP;VALUE=DATE-TIME:20260423T191044Z
UID:1caa490d87ed8e1aa77ac46753ec1d47
CREATED;VALUE=DATE-TIME:20230310T000000Z
CATEGORIES:Literatura,Agenda cultural
LOCATION:Centre Cívic El Gorg - Riera del Gorg, s/n
ORGANIZER:Biblioteca Municipal La Muntala
COMMENT:Preu: Gratuït
DESCRIPTION:A càrrec de l'escriptor Toni Sala
URL:https://www.svmontalt.cat/document.php?id=20022
END:VEVENT
END:VCALENDAR