BEGIN:VCALENDAR
VERSION:2.0
PRODID:-//Plone.org//NONSGML plone.app.event//EN
X-WR-TIMEZONE:Europe/Madrid
BEGIN:VEVENT
SUMMARY:Balls de Saló al Cívic
DTSTART;TZID=Europe/Madrid;VALUE=DATE-TIME:20080427T180000
DTEND;TZID=Europe/Madrid;VALUE=DATE-TIME:20080427T190000
DTSTAMP;VALUE=DATE-TIME:20260426T003310Z
UID:d765829b24ef3d954b64e3df453076dc
CREATED;VALUE=DATE-TIME:20080427T000000Z
CATEGORIES:Dansa,Agenda cultural
LOCATION:Centre Cívic El Gorg
ORGANIZER:Regidoria de Cultura
COMMENT:Preu: Gratuït
URL:https://www.svmontalt.cat/document.php?id=2012
END:VEVENT
END:VCALENDAR