BEGIN:VCALENDAR
VERSION:2.0
PRODID:-//Plone.org//NONSGML plone.app.event//EN
X-WR-TIMEZONE:Europe/Madrid
BEGIN:VEVENT
SUMMARY:Oficina Municipal d'Informació al Consumidor de Les 3 Viles
DTSTART;TZID=Europe/Madrid;VALUE=DATE-TIME:20230403T100000
DTEND;TZID=Europe/Madrid;VALUE=DATE-TIME:20230403T110000
DTSTAMP;VALUE=DATE-TIME:20260419T144952Z
UID:365297bd54e28aa1be197739882b686a
CREATED;VALUE=DATE-TIME:20230403T000000Z
LOCATION:Ajuntament de Sant Vicenç de Montalt - C/ Sant Antoni, 13
ORGANIZER:Regidoria de Consum amb el suport de la Diputació de Barcelona
COMMENT:Preu: Gratuït
Durada: De 10 a 13 h
URL:https://www.svmontalt.cat/document.php?id=20145
END:VEVENT
END:VCALENDAR