BEGIN:VCALENDAR
VERSION:2.0
PRODID:-//Plone.org//NONSGML plone.app.event//EN
X-WR-TIMEZONE:Europe/Madrid
BEGIN:VEVENT
SUMMARY:Club de feina
DTSTART;TZID=Europe/Madrid;VALUE=DATE-TIME:20230405T093000
DTEND;TZID=Europe/Madrid;VALUE=DATE-TIME:20230405T103000
DTSTAMP;VALUE=DATE-TIME:20260421T045659Z
UID:d1832442eed388bc20e542b3a037b788
CREATED;VALUE=DATE-TIME:20230405T000000Z
LOCATION:Espai Jove - Avinguda Verge de Montserrat, 1
ORGANIZER:Regidoria de Promoció Econòmica i Ocupació
COMMENT:Preu: Gratuït
Durada: Els dimecres de 9.30 a 12.30 h
URL:https://www.svmontalt.cat/document.php?id=20154
END:VEVENT
END:VCALENDAR