BEGIN:VCALENDAR
VERSION:2.0
PRODID:-//Plone.org//NONSGML plone.app.event//EN
X-WR-TIMEZONE:Europe/Madrid
BEGIN:VEVENT
SUMMARY:Xerrada-col·loqui: 'Generació Alfa: Nous reptes educatius'
DTSTART;TZID=Europe/Madrid;VALUE=DATE-TIME:20230401T110000
DTEND;TZID=Europe/Madrid;VALUE=DATE-TIME:20230401T120000
DTSTAMP;VALUE=DATE-TIME:20260419T161634Z
UID:be18ae5edace1219bf8d2d3f7eb16ace
CREATED;VALUE=DATE-TIME:20230401T000000Z
CATEGORIES:Literatura,Conferència,Agenda cultural
LOCATION:Centre Cívic El Gorg - Riera del Gorg, s/n
ORGANIZER:Biblioteca Municipal La Muntala
COMMENT:Preu: Gratuït
Durada: D'11 a 12.30 h
URL:https://www.svmontalt.cat/document.php?id=20185
END:VEVENT
END:VCALENDAR