BEGIN:VCALENDAR
VERSION:2.0
PRODID:-//Plone.org//NONSGML plone.app.event//EN
X-WR-TIMEZONE:Europe/Madrid
BEGIN:VEVENT
SUMMARY:Espectacle familiar 'En Bernat el Pescador'
DTSTART;TZID=Europe/Madrid;VALUE=DATE-TIME:20230810T183000
DTEND;TZID=Europe/Madrid;VALUE=DATE-TIME:20230810T193000
DTSTAMP;VALUE=DATE-TIME:20260423T035855Z
UID:2908a4a83204660aaf3a273497c28e7d
CREATED;VALUE=DATE-TIME:20230810T000000Z
CATEGORIES:Infantils,Teatre,Agenda cultural
LOCATION:Parc dels Germans Gabrielistes - Camí del Padró
ORGANIZER:Regidoria de Cultura, Festes i Tradicions
COMMENT:Preu: Gratuït
Durada: 50 minuts
DESCRIPTION:A càrrec de la companyia Galiot Teatre
URL:https://www.svmontalt.cat/document.php?id=20564
END:VEVENT
END:VCALENDAR