BEGIN:VCALENDAR
VERSION:2.0
PRODID:-//Plone.org//NONSGML plone.app.event//EN
X-WR-TIMEZONE:Europe/Madrid
BEGIN:VEVENT
SUMMARY:La gira dels 25 - Dàmaris Gelabert
DTSTART;TZID=Europe/Madrid;VALUE=DATE-TIME:20230812T190000
DTEND;TZID=Europe/Madrid;VALUE=DATE-TIME:20230812T200000
DTSTAMP;VALUE=DATE-TIME:20260422T081209Z
UID:049f4140eb483bff9e9b9f72c16abd08
CREATED;VALUE=DATE-TIME:20230812T000000Z
CATEGORIES:Festa,Infantils,Música,Agenda cultural
LOCATION:Parc dels Germans Gabrielistes - Camí del Padró
ORGANIZER:Regidoria de Cultura, Festes i Tradicions
COMMENT:Preu: Gratuït
Durada: 70 minuts
URL:https://www.svmontalt.cat/document.php?id=20572
END:VEVENT
END:VCALENDAR