BEGIN:VCALENDAR
VERSION:2.0
PRODID:-//Plone.org//NONSGML plone.app.event//EN
X-WR-TIMEZONE:Europe/Madrid
BEGIN:VEVENT
SUMMARY:Festa Temàtica Disco 80 i 90
DTSTART;TZID=Europe/Madrid;VALUE=DATE-TIME:20230908T223000
DTEND;TZID=Europe/Madrid;VALUE=DATE-TIME:20230908T233000
DTSTAMP;VALUE=DATE-TIME:20260425T015731Z
UID:e0629a6297f536c72f37146484b4885c
CREATED;VALUE=DATE-TIME:20230908T000000Z
CATEGORIES:Festa,Música,Agenda cultural
LOCATION:Plaça del Poble - Plaça del Poble, s/n
ORGANIZER:Regidoria de Cultura, Festes i Tradicions
COMMENT:Preu: Gratuït
DESCRIPTION:Música dels anys 80 i 90 amb el DJ Straw&Berry
URL:https://www.svmontalt.cat/document.php?id=20650
END:VEVENT
END:VCALENDAR