BEGIN:VCALENDAR
VERSION:2.0
PRODID:-//Plone.org//NONSGML plone.app.event//EN
X-WR-TIMEZONE:Europe/Madrid
BEGIN:VEVENT
SUMMARY:Balls de Saló al Cívic
DTSTART;TZID=Europe/Madrid;VALUE=DATE-TIME:20080525T180000
DTEND;TZID=Europe/Madrid;VALUE=DATE-TIME:20080525T190000
DTSTAMP;VALUE=DATE-TIME:20260426T004244Z
UID:581bf555c2b59b323c887545e2fa7532
CREATED;VALUE=DATE-TIME:20080525T000000Z
CATEGORIES:Dansa,Agenda cultural
LOCATION:Centre Cívic El Gorg
ORGANIZER:Regidoria de Cultura
COMMENT:Preu: Gratuït
URL:https://www.svmontalt.cat/document.php?id=2067
END:VEVENT
END:VCALENDAR