BEGIN:VCALENDAR
VERSION:2.0
PRODID:-//Plone.org//NONSGML plone.app.event//EN
X-WR-TIMEZONE:Europe/Madrid
BEGIN:VEVENT
SUMMARY:Cinema Familiar: Les Tortugues Ninja
DTSTART;TZID=Europe/Madrid;VALUE=DATE-TIME:20080622T180000
DTEND;TZID=Europe/Madrid;VALUE=DATE-TIME:20080622T190000
DTSTAMP;VALUE=DATE-TIME:20260419T170723Z
UID:482e4e677a8bb61e41cacd62c666762f
CREATED;VALUE=DATE-TIME:20080622T000000Z
CATEGORIES:Infantils
LOCATION:Centre Cívic El Gorg
ORGANIZER:Regidoria de Cultura
COMMENT:Preu: 2 euros
URL:https://www.svmontalt.cat/document.php?id=2070
END:VEVENT
END:VCALENDAR