BEGIN:VCALENDAR
VERSION:2.0
PRODID:-//Plone.org//NONSGML plone.app.event//EN
X-WR-TIMEZONE:Europe/Madrid
BEGIN:VEVENT
SUMMARY:Presentació del llibre «Cartas desde la locura»
DTSTART;TZID=Europe/Madrid;VALUE=DATE-TIME:20231006T193000
DTEND;TZID=Europe/Madrid;VALUE=DATE-TIME:20231006T203000
DTSTAMP;VALUE=DATE-TIME:20260420T220137Z
UID:e48b98ccf5ecb5ccde7b34de974266c8
CREATED;VALUE=DATE-TIME:20231006T000000Z
CATEGORIES:Literatura,Agenda cultural
LOCATION:Biblioteca Municipal La Muntala - Riera del Gorg, s/n
ORGANIZER:Biblioteca Municipal La Muntala
COMMENT:Preu: Gratuït
URL:https://www.svmontalt.cat/document.php?id=20727
END:VEVENT
END:VCALENDAR