BEGIN:VCALENDAR
VERSION:2.0
PRODID:-//Plone.org//NONSGML plone.app.event//EN
X-WR-TIMEZONE:Europe/Madrid
BEGIN:VEVENT
SUMMARY:Anem al teatre Romea a veure 'La dona fantasma'
DTSTART;TZID=Europe/Madrid;VALUE=DATE-TIME:20231019T180000
DTEND;TZID=Europe/Madrid;VALUE=DATE-TIME:20231019T190000
DTSTAMP;VALUE=DATE-TIME:20260419T185250Z
UID:b3972ca45ba612d0ff7491faae296b91
CREATED;VALUE=DATE-TIME:20231019T000000Z
CATEGORIES:Teatre,Agenda cultural
LOCATION:A les portes del Centre Cívic el Gorg - Riera del Gorg, s/n
ORGANIZER:Associació de Gent Gran Els Xurravins
COMMENT:Preu: 45 euros
DESCRIPTION:Companyia T de Teatre
URL:https://www.svmontalt.cat/document.php?id=20735
END:VEVENT
END:VCALENDAR