BEGIN:VCALENDAR
VERSION:2.0
PRODID:-//Plone.org//NONSGML plone.app.event//EN
X-WR-TIMEZONE:Europe/Madrid
BEGIN:VEVENT
SUMMARY:Jornada de Consum Responsable des de l'ESS
DTSTART;TZID=Europe/Madrid;VALUE=DATE-TIME:20231019T183000
DTEND;TZID=Europe/Madrid;VALUE=DATE-TIME:20231019T193000
DTSTAMP;VALUE=DATE-TIME:20260419T190814Z
UID:f7d0e63a2995f158087e713f53b654d5
CREATED;VALUE=DATE-TIME:20231019T000000Z
CATEGORIES:Conferència,Agenda cultural
LOCATION:Centre Cívic El Gorg - Riera del Gorg, s/n
ORGANIZER:Regidoria de Promoció Econòmica i COOP Maresme amb el suport de la Generalitat de Catalunya i la Diputació de Barcelona
COMMENT:Preu: Gratuïta
Durada: De 18.30 a 21 h
URL:https://www.svmontalt.cat/document.php?id=20789
END:VEVENT
END:VCALENDAR