BEGIN:VCALENDAR
VERSION:2.0
PRODID:-//Plone.org//NONSGML plone.app.event//EN
X-WR-TIMEZONE:Europe/Madrid
BEGIN:VEVENT
SUMMARY:{c}El enfermo imaginario{c}, proposta teatral de {c}Els Xuvarrins{c} pel maig
DTSTART;TZID=Europe/Madrid;VALUE=DATE-TIME:20080523T190000
DTEND;TZID=Europe/Madrid;VALUE=DATE-TIME:20080523T200000
DTSTAMP;VALUE=DATE-TIME:20260426T031816Z
UID:a5a47000118eeab207cc90bc11d1b4ee
CREATED;VALUE=DATE-TIME:20080523T000000Z
CATEGORIES:Teatre,Agenda cultural
LOCATION:Davant del Centre Cívic El Gorg
ORGANIZER:Associació de Gent Gran Els Xurravins en col·laboració amb l'Ajuntament de Sant Andreu de Llavaneres
COMMENT:Preu: Entrada i servei de bus: 30 euros
DESCRIPTION:Compra d'entrades fins al 7 de maig
URL:https://www.svmontalt.cat/document.php?id=2079
END:VEVENT
END:VCALENDAR