BEGIN:VCALENDAR
VERSION:2.0
PRODID:-//Plone.org//NONSGML plone.app.event//EN
X-WR-TIMEZONE:Europe/Madrid
BEGIN:VEVENT
SUMMARY:Taller d'informàtica
DTSTART;TZID=Europe/Madrid;VALUE=DATE-TIME:20231221T100000
DTEND;TZID=Europe/Madrid;VALUE=DATE-TIME:20231221T110000
DTSTAMP;VALUE=DATE-TIME:20260426T015522Z
UID:22561c301fa1233322c9a8136215d943
CREATED;VALUE=DATE-TIME:20231002T000000Z
CATEGORIES:Cursos,Agenda cultural
LOCATION:Telecentre - Riera del Gorg, s/n
ORGANIZER:Associació de Gent Gran Els Xurravins amb el suport de Fundació 'la Caixa'
COMMENT:Preu: Activitat gratuïta
Durada: Dilluns i dijous, de 10 a 12h
URL:https://www.svmontalt.cat/document.php?id=20795
END:VEVENT
END:VCALENDAR