BEGIN:VCALENDAR
VERSION:2.0
PRODID:-//Plone.org//NONSGML plone.app.event//EN
X-WR-TIMEZONE:Europe/Madrid
BEGIN:VEVENT
SUMMARY:Taller: Eines per a la gestió emocional. La tristesa
DTSTART;TZID=Europe/Madrid;VALUE=DATE-TIME:20231211T183000
DTEND;TZID=Europe/Madrid;VALUE=DATE-TIME:20231211T193000
DTSTAMP;VALUE=DATE-TIME:20260419T161757Z
UID:1d168a535321e9071ae0b7c66acedcbc
CREATED;VALUE=DATE-TIME:20231211T000000Z
CATEGORIES:Cursos,Agenda cultural
LOCATION:Centre Cívic El Gorg - Riera del Gorg, s/n
ORGANIZER:Biblioteca Municipal La Muntala
URL:https://www.svmontalt.cat/document.php?id=20931
END:VEVENT
END:VCALENDAR