BEGIN:VCALENDAR
VERSION:2.0
PRODID:-//Plone.org//NONSGML plone.app.event//EN
X-WR-TIMEZONE:Europe/Madrid
BEGIN:VEVENT
SUMMARY:Matinal a Montbarbat
DTSTART;TZID=Europe/Madrid;VALUE=DATE-TIME:20240110T093000
DTEND;TZID=Europe/Madrid;VALUE=DATE-TIME:20240110T103000
DTSTAMP;VALUE=DATE-TIME:20260420T154951Z
UID:40884645cb454fb3249d5895f0bdbab0
CREATED;VALUE=DATE-TIME:20240110T000000Z
CATEGORIES:Esports
LOCATION:Centre Cívic El Gorg - Riera del Gorg, s/n
ORGANIZER:Associació de Gent Gran Els Xurravins
DESCRIPTION:Caminar saludable
URL:https://www.svmontalt.cat/document.php?id=20992
END:VEVENT
END:VCALENDAR